BEGIN:VCALENDAR
VERSION:2.0
PRODID:-//Piletilevi//ICS generator//EN
METHOD:PUBLISH
BEGIN:VEVENT
TZID:Europe/Tallinn
DTSTART:20260605T200000
DTEND:20260606T020000
TRANSP:OPAQUE
SEQUENCE:0
UID:69e9077f03f21
DTSTAMP:20260422T173807Z
SUMMARY:Truly Unique Silent Disco'26: Summer Edition Vol.2
DESCRIPTION:Kad vasara ir oficiāli sākusies\, mēs to svinam ar jau ot...
ORGANIZER:Easy Catering SIA
LOCATION:Angārs\, Latvija\, Rīga\, Tallinas iela 10\,
CLASS:PUBLIC
BEGIN:VALARM
TRIGGER:-PT60M
ACTION:DISPLAY
DESCRIPTION:Reminder
END:VALARM
END:VEVENT
END:VCALENDAR