BEGIN:VCALENDAR
VERSION:2.0
PRODID:-//Piletilevi//ICS generator//EN
METHOD:PUBLISH
BEGIN:VEVENT
TZID:Europe/Tallinn
DTSTART:20260603T190000
DTEND:20260603T213000
TRANSP:OPAQUE
SEQUENCE:0
UID:69e90df504308
DTSTAMP:20260422T180541Z
SUMMARY:Literārais šovs sievietēm 18+ 'Pikanti un eleganti' latviešu valodā
DESCRIPTION:Literārais šovs sievietēm 18+ "Pikanti un eleganti” la...
ORGANIZER:Sabira Aleksandra Skoblova
LOCATION:Latvijas 1. Rokkafejnīca\, Latvija\, Rīga\, Mārstaļu iel...
CLASS:PUBLIC
BEGIN:VALARM
TRIGGER:-PT60M
ACTION:DISPLAY
DESCRIPTION:Reminder
END:VALARM
END:VEVENT
END:VCALENDAR