BEGIN:VCALENDAR
VERSION:2.0
PRODID:-//Piletilevi//ICS generator//EN
METHOD:PUBLISH
BEGIN:VEVENT
TZID:Europe/Tallinn
DTSTART:20260810T193000
DTEND:20260810T213000
TRANSP:OPAQUE
SEQUENCE:0
UID:69e7c909e8f3e
DTSTAMP:20260421T185921Z
SUMMARY:Festivāls Artissimo, Orchestra Filharmonica Italiana (Kamerorķestris) & Marco Albonetti (Saksofons)
DESCRIPTION:Pirmdien\, 2026.gada 10. augustā pl. 19.30 Dzintaru koncert...
ORGANIZER:ARTISSIMO SIA
LOCATION:Dzintaru koncertzāle\, Jūrmala\, Latvija\, Jūrmala\, Tura...
CLASS:PUBLIC
BEGIN:VALARM
TRIGGER:-PT60M
ACTION:DISPLAY
DESCRIPTION:Reminder
END:VALARM
END:VEVENT
END:VCALENDAR