BEGIN:VCALENDAR
VERSION:2.0
PRODID:-//Piletilevi//ICS generator//EN
METHOD:PUBLISH
BEGIN:VEVENT
TZID:Europe/Tallinn
DTSTART:20261121T200000
DTEND:20261121T220000
TRANSP:OPAQUE
SEQUENCE:0
UID:69e79581af5c3
DTSTAMP:20260421T151929Z
SUMMARY:Gio Pika ar Simfonisko Orķestri
DESCRIPTION:Gio Pika ar simfonisko orķestri — 21. novembrī Rīgā 21...
ORGANIZER:Double E Events OÜ
LOCATION:Xiaomi Arēna\, Latvija\, Rīga\, Skanstes iela 21
CLASS:PUBLIC
BEGIN:VALARM
TRIGGER:-PT60M
ACTION:DISPLAY
DESCRIPTION:Reminder
END:VALARM
END:VEVENT
END:VCALENDAR