BEGIN:VCALENDAR
VERSION:2.0
PRODID:-//Piletilevi//ICS generator//EN
METHOD:PUBLISH
BEGIN:VEVENT
TZID:Europe/Tallinn
DTSTART:20260523T180000
DTEND:20260523T210000
TRANSP:OPAQUE
SEQUENCE:0
UID:69e79581349fd
DTSTAMP:20260421T151929Z
SUMMARY:Art randiņš / Арт - свидание
DESCRIPTION:VIENA BIĻETE DERĪGA DIVIEM Tava skaistā diena: uzzīmēji...
ORGANIZER:Irina Chernobay
LOCATION:I am Picasso Art Studio\, Latvija\, Rīga\, Bruņinieku 36
CLASS:PUBLIC
BEGIN:VALARM
TRIGGER:-PT60M
ACTION:DISPLAY
DESCRIPTION:Reminder
END:VALARM
END:VEVENT
END:VCALENDAR