BEGIN:VCALENDAR
VERSION:2.0
PRODID:-//Piletilevi//ICS generator//EN
METHOD:PUBLISH
BEGIN:VEVENT
TZID:Europe/Tallinn
DTSTART:20260606T080000
DTEND:20260607T180000
TRANSP:OPAQUE
SEQUENCE:0
UID:69e76ebfe8dbd
DTSTAMP:20260421T123407Z
SUMMARY:FIA European Autocross and Cross Car Championship in Vilkyčiai
DESCRIPTION:
ORGANIZER:ASK VILKYČIAI
LOCATION:Vilkyčių automobilių sporto trasa\, Lietuva\, Šilutė\, ...
CLASS:PUBLIC
BEGIN:VALARM
TRIGGER:-PT60M
ACTION:DISPLAY
DESCRIPTION:Reminder
END:VALARM
END:VEVENT
END:VCALENDAR