BEGIN:VCALENDAR
VERSION:2.0
PRODID:-//Piletilevi//ICS generator//EN
METHOD:PUBLISH
BEGIN:VEVENT
TZID:Europe/Tallinn
DTSTART:20260501T183000
DTEND:20260501T213000
TRANSP:OPAQUE
SEQUENCE:0
UID:69e60b53146d1
DTSTAMP:20260420T111739Z
SUMMARY:Uzzīmējiet gleznu mākslinieka pavadībā / Напиши картину с помощью художника
DESCRIPTION:Draw a painting with an artist: - all materials\, wine and s...
ORGANIZER:Irina Chernobay
LOCATION:I am Picasso Art Studio\, Latvia\, Rīga\, Bruņinieku 36
CLASS:PUBLIC
BEGIN:VALARM
TRIGGER:-PT60M
ACTION:DISPLAY
DESCRIPTION:Reminder
END:VALARM
END:VEVENT
END:VCALENDAR