BEGIN:VCALENDAR
VERSION:2.0
PRODID:-//Piletilevi//ICS generator//EN
METHOD:PUBLISH
BEGIN:VEVENT
TZID:Europe/Tallinn
DTSTART:20260426T140000
DTEND:20260426T161000
TRANSP:OPAQUE
SEQUENCE:0
UID:69e5c34a83fa7
DTSTAMP:20260420T061018Z
SUMMARY:Maikls
DESCRIPTION:Maikls Michael Žanrs:Drāma\, Vēsturiska\, Biogrāfija\, M...
ORGANIZER:Kino Lora SIA
LOCATION:KINO LORA\, Sigulda\, Latvija\, Sigulda\, TC "Šokolāde"\, ...
CLASS:PUBLIC
BEGIN:VALARM
TRIGGER:-PT60M
ACTION:DISPLAY
DESCRIPTION:Reminder
END:VALARM
END:VEVENT
END:VCALENDAR