BEGIN:VCALENDAR
VERSION:2.0
PRODID:-//Piletilevi//ICS generator//EN
METHOD:PUBLISH
BEGIN:VEVENT
TZID:Europe/Tallinn
DTSTART:20260430T193000
DTEND:20260430T214500
TRANSP:OPAQUE
SEQUENCE:0
UID:69e736034e9ec
DTSTAMP:20260421T083203Z
SUMMARY:Mūmija. Lī Kronina filma
DESCRIPTION:Mūmija. Lī Kronina filma Lee Cronin's The Mummy Žanrs: Š...
ORGANIZER:Kino Lora SIA
LOCATION:KINO LORA\, Sigulda\, Latvija\, Sigulda\, TC "Šokolāde"\, ...
CLASS:PUBLIC
BEGIN:VALARM
TRIGGER:-PT60M
ACTION:DISPLAY
DESCRIPTION:Reminder
END:VALARM
END:VEVENT
END:VCALENDAR