BEGIN:VCALENDAR
VERSION:2.0
PRODID:-//Piletilevi//ICS generator//EN
METHOD:PUBLISH
BEGIN:VEVENT
TZID:Europe/Tallinn
DTSTART:20260430T203000
DTEND:20260430T220000
TRANSP:OPAQUE
SEQUENCE:0
UID:69e73685c3ba5
DTSTAMP:20260421T083413Z
SUMMARY:Normāla pilsēta
DESCRIPTION:Normāla pilsēta Normal Žanrs: Trilleris\, Detektīvs\, As...
ORGANIZER:Kino Lora SIA
LOCATION:KINO LORA\, Sigulda\, Латвия\, Sigulda\, TC "Šokolād...
CLASS:PUBLIC
BEGIN:VALARM
TRIGGER:-PT60M
ACTION:DISPLAY
DESCRIPTION:Reminder
END:VALARM
END:VEVENT
END:VCALENDAR