BEGIN:VCALENDAR
VERSION:2.0
PRODID:-//Piletilevi//ICS generator//EN
METHOD:PUBLISH
BEGIN:VEVENT
TZID:Europe/Tallinn
DTSTART:20260430T143000
DTEND:20260430T161000
TRANSP:OPAQUE
SEQUENCE:0
UID:69e73684dbc1a
DTSTAMP:20260421T083412Z
SUMMARY:Hoperi
DESCRIPTION:Hoperi  Hoppers  Žanrs: Piedzīvojumi\, Komēdija\, Anim...
ORGANIZER:Kino Lora SIA
LOCATION:KINO LORA\, Sigulda\, Latvia\, Sigulda\, TC "Šokolāde"\, S...
CLASS:PUBLIC
BEGIN:VALARM
TRIGGER:-PT60M
ACTION:DISPLAY
DESCRIPTION:Reminder
END:VALARM
END:VEVENT
END:VCALENDAR