BEGIN:VCALENDAR
VERSION:2.0
PRODID:-//Piletilevi//ICS generator//EN
METHOD:PUBLISH
BEGIN:VEVENT
TZID:Europe/Tallinn
DTSTART:20260425T144500
DTEND:20260425T162500
TRANSP:OPAQUE
SEQUENCE:0
UID:69e736e4bd655
DTSTAMP:20260421T083548Z
SUMMARY:Hoperi
DESCRIPTION:Hoperi  Hoppers  Žanrs: Piedzīvojumi\, Komēdija\, Anim...
ORGANIZER:Kino Lora SIA
LOCATION:KINO LORA\, Sigulda\, Latvia\, Sigulda\, TC "Šokolāde"\, S...
CLASS:PUBLIC
BEGIN:VALARM
TRIGGER:-PT60M
ACTION:DISPLAY
DESCRIPTION:Reminder
END:VALARM
END:VEVENT
END:VCALENDAR