BEGIN:VCALENDAR
VERSION:2.0
PRODID:-//Piletilevi//ICS generator//EN
METHOD:PUBLISH
BEGIN:VEVENT
TZID:Europe/Tallinn
DTSTART:20260510T203000
DTEND:20260510T235000
TRANSP:OPAQUE
SEQUENCE:0
UID:69e62026abc1d
DTSTAMP:20260420T124630Z
SUMMARY:TV3 šova 'Koru kari' fināla tiešraide
DESCRIPTION:Gūsti košas emocijas plecu pie pleca ar saviem "Koru kari"...
ORGANIZER:All Media Latvia SIA
LOCATION:Rīgas Kinostudija\, Latvija\, Rīga\, Šmerļa iela 3
CLASS:PUBLIC
BEGIN:VALARM
TRIGGER:-PT60M
ACTION:DISPLAY
DESCRIPTION:Reminder
END:VALARM
END:VEVENT
END:VCALENDAR