BEGIN:VCALENDAR
VERSION:2.0
PRODID:-//Piletilevi//ICS generator//EN
METHOD:PUBLISH
BEGIN:VEVENT
TZID:Europe/Tallinn
DTSTART:20260912T190000
DTEND:20260912T235900
TRANSP:OPAQUE
SEQUENCE:0
UID:69e736b799d67
DTSTAMP:20260421T083503Z
SUMMARY:BAZARA 0 Fight Club IV
DESCRIPTION:“BAZARA 0 FIGHT CLUB IV” On September 12\, BAZARA 0 prom...
ORGANIZER:Bazara 0 SIA
LOCATION:Xiaomi Arēna\, Latvia\, Rīga\, Skanstes iela 21
CLASS:PUBLIC
BEGIN:VALARM
TRIGGER:-PT60M
ACTION:DISPLAY
DESCRIPTION:Reminder
END:VALARM
END:VEVENT
END:VCALENDAR