BEGIN:VCALENDAR
VERSION:2.0
PRODID:-//Piletilevi//ICS generator//EN
METHOD:PUBLISH
BEGIN:VEVENT
TZID:Europe/Tallinn
DTSTART:20260501T200000
DTEND:20260501T220000
TRANSP:OPAQUE
SEQUENCE:0
UID:69e736b7e204b
DTSTAMP:20260421T083503Z
SUMMARY:MASA Mini Jazz Fest | Evilena Protektore Quartet
DESCRIPTION:On May 1\, Evilena Protektore's concert program "Time" will ...
ORGANIZER:MASA studija SIA
LOCATION:MASA kultūrbārs\, Latvia\, Rīga\, Elizabetes iela 67\,
CLASS:PUBLIC
BEGIN:VALARM
TRIGGER:-PT60M
ACTION:DISPLAY
DESCRIPTION:Reminder
END:VALARM
END:VEVENT
END:VCALENDAR