BEGIN:VCALENDAR
VERSION:2.0
PRODID:-//Piletilevi//ICS generator//EN
METHOD:PUBLISH
BEGIN:VEVENT
TZID:Europe/Tallinn
DTSTART:20260429T200000
DTEND:20260429T220000
TRANSP:OPAQUE
SEQUENCE:0
UID:69e736b8ccb6f
DTSTAMP:20260421T083504Z
SUMMARY:MASA Mini Jazz Fest | Rūdolfs Macats Quartet with Special Guest Max Teakle
DESCRIPTION:On April 29\, the MASA Mini Jazz Fest will feature the Rūdo...
ORGANIZER:MASA studija SIA
LOCATION:MASA kultūrbārs\, Latvia\, Rīga\, Elizabetes iela 67\,
CLASS:PUBLIC
BEGIN:VALARM
TRIGGER:-PT60M
ACTION:DISPLAY
DESCRIPTION:Reminder
END:VALARM
END:VEVENT
END:VCALENDAR