BEGIN:VCALENDAR
VERSION:2.0
PRODID:-//Piletilevi//ICS generator//EN
METHOD:PUBLISH
BEGIN:VEVENT
TZID:Europe/Tallinn
DTSTART:20260612T080000
DTEND:20260614T235900
TRANSP:OPAQUE
SEQUENCE:0
UID:69e7713b7d1cb
DTSTAMP:20260421T124443Z
SUMMARY:Karavani, matkaauto parkla / Külgkorvide motokrossi ja quadide maailmameistrivõistluste etapp Karksi-Nuia Motokeskuses
DESCRIPTION:FIM Sidecarcross Pasaules čempionāts & FIM Quad Pasaules ...
ORGANIZER:Karksi Tehnikaspordiklubi MTÜ
LOCATION:Karksi-Nuia krossirada\, Igaunija\, Karksi vald\, Karksi-Nui...
CLASS:PUBLIC
BEGIN:VALARM
TRIGGER:-PT60M
ACTION:DISPLAY
DESCRIPTION:Reminder
END:VALARM
END:VEVENT
END:VCALENDAR